Workbook

Sheet Budget
A1: PI Name: | G1: Kuali #
A2: Solicitation:
B3: USDA Limits IDC to 30% of Fed Share
A4: IDC Rate (TYPE MTDC) | B4: 0.55 | D4: FRINGE BENEFIT RATES (6/1/26 - 5/31/27) projected **** | H4: (see note in cell A130)
A5: Inflation Rate | B5: 1.04 | D5: Academic | E5: 0.27 | F5: Staff | G5: 0.298
A6: Number of Budget Years | B6: 3 | D6: Summer | E6: 0.076 | F6: Student | G6: 0
D8: Acad. Appt. (Months) | F8: No. of Months Year 1 | G8: No. of Months Year 2 | H8: No. of Months Year 3 | I8: No. of Months Year 4 | J8: No. of Months Year 5
A9: SALARIES & WAGES | K9: Year | L9: Year | M9: Year | N9: Year | O9: Year | P9: TOTAL BUDGET
A10: Name | B10: Role | C10: Fringe Type | E10: Base Salary | K10: 1 | L10: 2 | M10: 3 | N10: 4 | O10: 5 | Q10: Check Sum
A11: =B1 -> 0 | B11: PI | C11: Academic | K11: =IF(D11>0,ROUND(($F11*$E11)/D11,0),0) -> 0 | L11: =IF($D$11>0,ROUND((G11*$E11*$B$5^(L10-1))/$D$11,0),0) -> 0 | M11: =IF($D$11>0,ROUND((H11*$E11*$B$5^(M10-1))/$D$11,0),0) -> 0 | N11: =IF($D$11>0,ROUND((I11*$E11*$B$5^(N10-1))/$D$11,0),0) -> 0 | O11: =IF($D$11>0,ROUND((J11*$E11*$B$5^(O10-1))/$D$11,0),0) -> 0 | P11: =SUM(K11:O11) -> 0
A12: =A11 -> 0 | B12: =B11 -> PI | C12: Summer | D12: =D11 -> 0 | E12: =E11 -> 0 | K12: =IF(D12>0,ROUND(($F12*$E12)/D12,0),0) -> 0 | L12: =IF($D$12>0,ROUND((G12*$E12*$B$5^(L$10-1))/$D$12,0),0) -> 0 | M12: =IF($D$12>0,ROUND((H12*$E12*$B$5^(M$10-1))/$D$12,0),0) -> 0 | N12: =IF($D$12>0,ROUND((I12*$E12*$B$5^(N$10-1))/$D$12,0),0) -> 0 | O12: =IF($D$12>0,ROUND((J12*$E12*$B$5^(O$10-1))/$D$12,0),0) -> 0 | P12: =SUM(K12:O12) -> 0
B13: Co-PI 1 | C13: Academic | K13: =IF(D13>0,ROUND(($F13*$E13)/D13,0),0) -> 0 | L13: =IF($D$13>0,ROUND((G13*$E13*$B$5^(L$10-1))/$D$13,0),0) -> 0 | M13: =IF($D$13>0,ROUND((H13*$E13*$B$5^(M$10-1))/$D$13,0),0) -> 0 | N13: =IF($D$13>0,ROUND((I13*$E13*$B$5^(N$10-1))/$D$13,0),0) -> 0 | O13: =IF($D$13>0,ROUND((J13*$E13*$B$5^(O$10-1))/$D$13,0),0) -> 0 | P13: =SUM(K13:O13) -> 0
A14: =A13 -> 0 | B14: =B13 -> Co-PI 1 | C14: Summer | D14: =D13 -> 0 | E14: =E13 -> 0 | K14: =IF(D14>0,ROUND(($F14*$E14)/D14,0),0) -> 0 | L14: =IF($D$14>0,ROUND((G14*$E14*$B$5^(L$10-1))/$D$14,0),0) -> 0 | M14: =IF($D$14>0,ROUND((H14*$E14*$B$5^(M$10-1))/$D$14,0),0) -> 0 | N14: =IF($D$14>0,ROUND((I14*$E14*$B$5^(N$10-1))/$D$14,0),0) -> 0 | O14: =IF($D$14>0,ROUND((J14*$E14*$B$5^(O$10-1))/$D$14,0),0) -> 0 | P14: =SUM(K14:O14) -> 0
B15: Co-PI 2 | C15: Academic | K15: =IF(D15>0,ROUND(($F15*$E15)/D15,0),0) -> 0 | L15: =IF($D$15>0,ROUND((G15*$E15*$B$5^(L$10-1))/$D$15,0),0) -> 0 | M15: =IF($D$15>0,ROUND((H15*$E15*$B$5^(M$10-1))/$D$15,0),0) -> 0 | N15: =IF($D$15>0,ROUND((I15*$E15*$B$5^(N$10-1))/$D$15,0),0) -> 0 | O15: =IF($D$15>0,ROUND((J15*$E15*$B$5^(O$10-1))/$D$15,0),0) -> 0 | P15: =SUM(K15:O15) -> 0
A16: =A15 -> 0 | B16: =B15 -> Co-PI 2 | C16: Summer | D16: =D15 -> 0 | E16: =E15 -> 0 | K16: =IF(D16>0,ROUND(($F16*$E16)/D16,0),0) -> 0 | L16: =IF($D$16>0,ROUND((G16*$E16*$B$5^(L$10-1))/$D$16,0),0) -> 0 | M16: =IF($D$16>0,ROUND((H16*$E16*$B$5^(M$10-1))/$D$16,0),0) -> 0 | N16: =IF($D$16>0,ROUND((I16*$E16*$B$5^(N$10-1))/$D$16,0),0) -> 0 | O16: =IF($D$16>0,ROUND((J16*$E16*$B$5^(O$10-1))/$D$16,0),0) -> 0 | P16: =SUM(K16:O16) -> 0
B17: Co-PI 3 | C17: Academic | K17: =IF(D17>0,ROUND(($F17*$E17)/D17,0),0) -> 0 | L17: =IF($D$17>0,ROUND((G17*$E17*$B$5^(L$10-1))/$D$17,0),0) -> 0 | M17: =IF($D$17>0,ROUND((H17*$E17*$B$5^(M$10-1))/$D$17,0),0) -> 0 | N17: =IF($D$17>0,ROUND((I17*$E17*$B$5^(N$10-1))/$D$17,0),0) -> 0 | O17: =IF($D$17>0,ROUND((J17*$E17*$B$5^(O$10-1))/$D$17,0),0) -> 0 | P17: =SUM(K17:O17) -> 0
A18: =A17 -> 0 | B18: =B17 -> Co-PI 3 | C18: Summer | D18: =D17 -> 0 | E18: =E17 -> 0 | K18: =IF(D18>0,ROUND(($F18*$E18)/D18,0),0) -> 0 | L18: =IF($D$18>0,ROUND((G18*$E18*$B$5^(L$10-1))/$D$18,0),0) -> 0 | M18: =IF($D$18>0,ROUND((H18*$E18*$B$5^(M$10-1))/$D$18,0),0) -> 0 | N18: =IF($D$18>0,ROUND((I18*$E18*$B$5^(N$10-1))/$D$18,0),0) -> 0 | O18: =IF($D$18>0,ROUND((J18*$E18*$B$5^(O$10-1))/$D$18,0),0) -> 0 | P18: =SUM(K18:O18) -> 0
B19: Co-PI 4 | C19: Academic | K19: =IF(D19>0,ROUND(($F19*$E19)/D19,0),0) -> 0 | L19: =IF($D$19>0,ROUND((G19*$E19*$B$5^(L$10-1))/$D$19,0),0) -> 0 | M19: =IF($D$19>0,ROUND((H19*$E19*$B$5^(M$10-1))/$D$19,0),0) -> 0 | N19: =IF($D$19>0,ROUND((I19*$E19*$B$5^(N$10-1))/$D$19,0),0) -> 0 | O19: =IF($D$19>0,ROUND((J19*$E19*$B$5^(O$10-1))/$D$19,0),0) -> 0 | P19: =SUM(K19:O19) -> 0
A20: =A19 -> 0 | B20: =B19 -> Co-PI 4 | C20: Summer | D20: =D19 -> 0 | E20: =E19 -> 0 | K20: =IF(D20>0,ROUND(($F20*$E20)/D20,0),0) -> 0 | L20: =IF($D$20>0,ROUND((G20*$E20*$B$5^(L$10-1))/$D$20,0),0) -> 0 | M20: =IF($D$20>0,ROUND((H20*$E20*$B$5^(M$10-1))/$D$20,0),0) -> 0 | N20: =IF($D$20>0,ROUND((I20*$E20*$B$5^(N$10-1))/$D$20,0),0) -> 0 | O20: =IF($D$20>0,ROUND((J20*$E20*$B$5^(O$10-1))/$D$20,0),0) -> 0 | P20: =SUM(K20:O20) -> 0
B21: Post-doc | C21: Academic | K21: =IF(D21>0,ROUND(($F21*$E21)/D21,0),0) -> 0 | L21: =IF($D$21>0,ROUND((G21*$E21*$B$5^(L$10-1))/$D$21,0),0) -> 0 | M21: =IF($D$21>0,ROUND((H21*$E21*$B$5^(M$10-1))/$D$21,0),0) -> 0 | N21: =IF($D$21>0,ROUND((I21*$E21*$B$5^(N$10-1))/$D$21,0),0) -> 0 | O21: =IF($D$21>0,ROUND((J21*$E21*$B$5^(O$10-1))/$D$21,0),0) -> 0 | P21: =SUM(K21:O21) -> 0
B22: Grad Student | C22: Student | K22: =IF(D22>0,ROUND(($F22*$E22)/D22,0),0) -> 0 | L22: =IF($D$22>0,ROUND((G22*$E22*$B$5^(L$10-1))/$D$22,0),0) -> 0 | M22: =IF($D$22>0,ROUND((H22*$E22*$B$5^(M$10-1))/$D$22,0),0) -> 0 | N22: =IF($D$22>0,ROUND((I22*$E22*$B$5^(N$10-1))/$D$22,0),0) -> 0 | O22: =IF($D$22>0,ROUND((J22*$E22*$B$5^(O$10-1))/$D$22,0),0) -> 0 | P22: =SUM(K22:O22) -> 0
B23: Grad Student | C23: Student | K23: =IF(D23>0,ROUND(($F23*$E23)/D23,0),0) -> 0 | L23: =IF($D$23>0,ROUND((G23*$E23*$B$5^(L$10-1))/$D$23,0),0) -> 0 | M23: =IF($D$23>0,ROUND((H23*$E23*$B$5^(M$10-1))/$D$23,0),0) -> 0 | N23: =IF($D$23>0,ROUND((I23*$E23*$B$5^(N$10-1))/$D$23,0),0) -> 0 | O23: =IF($D$23>0,ROUND((J23*$E23*$B$5^(O$10-1))/$D$23,0),0) -> 0 | P23: =SUM(K23:O23) -> 0
B24: UG Student | C24: Student | K24: =IF(D24>0,ROUND(($F24*$E24)/D24,0),0) -> 0 | L24: =IF($D$24>0,ROUND((G24*$E24*$B$5^(L$10-1))/$D$24,0),0) -> 0 | M24: =IF($D$24>0,ROUND((H24*$E24*$B$5^(M$10-1))/$D$24,0),0) -> 0 | N24: =IF($D$24>0,ROUND((I24*$E24*$B$5^(N$10-1))/$D$24,0),0) -> 0 | O24: =IF($D$24>0,ROUND((J24*$E24*$B$5^(O$10-1))/$D$24,0),0) -> 0 | P24: =SUM(K24:O24) -> 0
B25: UG Student | C25: Student | K25: =IF(D25>0,ROUND(($F25*$E25)/D25,0),) -> 0 | L25: =IF($D$25>0,ROUND((G25*$E25*$B$5^(L$10-1))/$D$25,0),0) -> 0 | M25: =IF($D$25>0,ROUND((H25*$E25*$B$5^(M$10-1))/$D$25,0),0) -> 0 | N25: =IF($D$25>0,ROUND((I25*$E25*$B$5^(N$10-1))/$D$25,0),0) -> 0 | O25: =IF($D$25>0,ROUND((J25*$E25*$B$5^(O$10-1))/$D$25,0),0) -> 0 | P25: =SUM(K25:O25) -> 0
A26: TOTAL SALARIES & WAGES | K26: =SUM(K11:K25) -> 0 | L26: =SUM(L11:L25) -> 0 | M26: =SUM(M11:M25) -> 0 | N26: =SUM(N11:N25) -> 0 | O26: =SUM(O11:O25) -> 0 | P26: =SUM(P11:P25) -> 0 | Q26: =SUM(K26:O26) -> 0
A28: FRINGE BENEFITS | K28: YEAR 1 | L28: YEAR 2 | M28: YEAR 3 | N28: YEAR 4 | O28: YEAR 5 | P28: TOTAL
A29: =A11 -> 0 | B29: =B11 -> PI | C29: =C11 -> Academic | K29: =ROUND(IF($C$29="Academic",K11*$E$5,IF($C$29="Summer",K11*$E$6,IF($C$29="Staff",K11*$G$5,IF($C$29="Student",K11*$G$6,0)))),0) -> 0 | L29: =ROUND(IF($C$29="Academic",L11*$E$5,IF($C$29="Summer",L11*$E$6,IF($C$29="Staff",L11*$G$5,IF($C$29="Student",L11*$G$6,0)))),0) -> 0 | M29: =ROUND(IF($C$29="Academic",M11*$E$5,IF($C$29="Summer",M11*$E$6,IF($C$29="Staff",M11*$G$5,IF($C$29="Student",M11*$G$6,0)))),0) -> 0 | N29: =ROUND(IF($C$29="Academic",N11*$E$5,IF($C$29="Summer",N11*$E$6,IF($C$29="Staff",N11*$G$5,IF($C$29="Student",N11*$G$6,0)))),0) -> 0 | O29: =ROUND(IF($C$29="Academic",O11*$E$5,IF($C$29="Summer",O11*$E$6,IF($C$29="Staff",O11*$G$5,IF($C$29="Student",O11*$G$6,0)))),0) -> 0 | P29: =SUM(K29:O29) -> 0
A30: =A12 -> 0 | B30: =B12 -> PI | C30: =C12 -> Summer | K30: =ROUND(IF($C$30="Academic",K12*$E$5,IF($C$30="Summer",K12*$E$6,IF($C$30="Staff",K12*$G$5,IF($C$30="Student",K12*$G$6,0)))),0) -> 0 | L30: =ROUND(IF($C$30="Academic",L12*$E$5,IF($C$30="Summer",L12*$E$6,IF($C$30="Staff",L12*$G$5,IF($C$30="Student",L12*$G$6,0)))),0) -> 0 | M30: =ROUND(IF($C$30="Academic",M12*$E$5,IF($C$30="Summer",M12*$E$6,IF($C$30="Staff",M12*$G$5,IF($C$30="Student",M12*$G$6,0)))),0) -> 0 | N30: =ROUND(IF($C$30="Academic",N12*$E$5,IF($C$30="Summer",N12*$E$6,IF($C$30="Staff",N12*$G$5,IF($C$30="Student",N12*$G$6,0)))),0) -> 0 | O30: =ROUND(IF($C$30="Academic",O12*$E$5,IF($C$30="Summer",O12*$E$6,IF($C$30="Staff",O12*$G$5,IF($C$30="Student",O12*$G$6,0)))),0) -> 0 | P30: =SUM(K30:O30) -> 0
A31: =A13 -> 0 | B31: =B13 -> Co-PI 1 | C31: =C13 -> Academic | K31: =ROUND(IF($C$31="Academic",K13*$E$5,IF($C$31="Summer",K13*$E$6,IF($C$31="Staff",K13*$G$5,IF($C$31="Student",K13*$G$6,0)))),0) -> 0 | L31: =ROUND(IF($C$31="Academic",L13*$E$5,IF($C$31="Summer",L13*$E$6,IF($C$31="Staff",L13*$G$5,IF($C$31="Student",L13*$G$6,0)))),0) -> 0 | M31: =ROUND(IF($C$31="Academic",M13*$E$5,IF($C$31="Summer",M13*$E$6,IF($C$31="Staff",M13*$G$5,IF($C$31="Student",M13*$G$6,0)))),0) -> 0 | N31: =ROUND(IF($C$31="Academic",N13*$E$5,IF($C$31="Summer",N13*$E$6,IF($C$31="Staff",N13*$G$5,IF($C$31="Student",N13*$G$6,0)))),0) -> 0 | O31: =ROUND(IF($C$31="Academic",O13*$E$5,IF($C$31="Summer",O13*$E$6,IF($C$31="Staff",O13*$G$5,IF($C$31="Student",O13*$G$6,0)))),0) -> 0 | P31: =SUM(K31:O31) -> 0
A32: =A14 -> 0 | B32: =B14 -> Co-PI 1 | C32: =C14 -> Summer | K32: =ROUND(IF($C$32="Academic",K14*$E$5,IF($C$32="Summer",K14*$E$6,IF($C$32="Staff",K14*$G$5,IF($C$32="Student",K14*$G$6,0)))),0) -> 0 | L32: =ROUND(IF($C$32="Academic",L14*$E$5,IF($C$32="Summer",L14*$E$6,IF($C$32="Staff",L14*$G$5,IF($C$32="Student",L14*$G$6,0)))),0) -> 0 | M32: =ROUND(IF($C$32="Academic",M14*$E$5,IF($C$32="Summer",M14*$E$6,IF($C$32="Staff",M14*$G$5,IF($C$32="Student",M14*$G$6,0)))),0) -> 0 | N32: =ROUND(IF($C$32="Academic",N14*$E$5,IF($C$32="Summer",N14*$E$6,IF($C$32="Staff",N14*$G$5,IF($C$32="Student",N14*$G$6,0)))),0) -> 0 | O32: =ROUND(IF($C$32="Academic",O14*$E$5,IF($C$32="Summer",O14*$E$6,IF($C$32="Staff",O14*$G$5,IF($C$32="Student",O14*$G$6,0)))),0) -> 0 | P32: =SUM(K32:O32) -> 0
A33: =A15 -> 0 | B33: =B15 -> Co-PI 2 | C33: =C15 -> Academic | K33: =ROUND(IF($C$33="Academic",K15*$E$5,IF($C$33="Summer",K15*$E$6,IF($C$33="Staff",K15*$G$5,IF($C$33="Student",K15*$G$6,0)))),0) -> 0 | L33: =ROUND(IF($C$33="Academic",L15*$E$5,IF($C$33="Summer",L15*$E$6,IF($C$33="Staff",L15*$G$5,IF($C$33="Student",L15*$G$6,0)))),0) -> 0 | M33: =ROUND(IF($C$33="Academic",M15*$E$5,IF($C$33="Summer",M15*$E$6,IF($C$33="Staff",M15*$G$5,IF($C$33="Student",M15*$G$6,0)))),0) -> 0 | N33: =ROUND(IF($C$33="Academic",N15*$E$5,IF($C$33="Summer",N15*$E$6,IF($C$33="Staff",N15*$G$5,IF($C$33="Student",N15*$G$6,0)))),0) -> 0 | O33: =ROUND(IF($C$33="Academic",O15*$E$5,IF($C$33="Summer",O15*$E$6,IF($C$33="Staff",O15*$G$5,IF($C$33="Student",O15*$G$6,0)))),0) -> 0 | P33: =SUM(K33:O33) -> 0
A34: =A16 -> 0 | B34: =B16 -> Co-PI 2 | C34: =C16 -> Summer | K34: =ROUND(IF($C$34="Academic",K16*$E$5,IF($C$34="Summer",K16*$E$6,IF($C$34="Staff",K16*$G$5,IF($C$34="Student",K16*$G$6,0)))),0) -> 0 | L34: =ROUND(IF($C$34="Academic",L16*$E$5,IF($C$34="Summer",L16*$E$6,IF($C$34="Staff",L16*$G$5,IF($C$34="Student",L16*$G$6,0)))),0) -> 0 | M34: =ROUND(IF($C$34="Academic",M16*$E$5,IF($C$34="Summer",M16*$E$6,IF($C$34="Staff",M16*$G$5,IF($C$34="Student",M16*$G$6,0)))),0) -> 0 | N34: =ROUND(IF($C$34="Academic",N16*$E$5,IF($C$34="Summer",N16*$E$6,IF($C$34="Staff",N16*$G$5,IF($C$34="Student",N16*$G$6,0)))),0) -> 0 | O34: =ROUND(IF($C$34="Academic",O16*$E$5,IF($C$34="Summer",O16*$E$6,IF($C$34="Staff",O16*$G$5,IF($C$34="Student",O16*$G$6,0)))),0) -> 0 | P34: =SUM(K34:O34) -> 0
A35: =A17 -> 0 | B35: =B17 -> Co-PI 3 | C35: =C17 -> Academic | K35: =ROUND(IF($C$35="Academic",K17*$E$5,IF($C$35="Summer",K17*$E$6,IF($C$35="Staff",K17*$G$5,IF($C$35="Student",K17*$G$6,0)))),0) -> 0 | L35: =ROUND(IF($C$35="Academic",L17*$E$5,IF($C$35="Summer",L17*$E$6,IF($C$35="Staff",L17*$G$5,IF($C$35="Student",L17*$G$6,0)))),0) -> 0 | M35: =ROUND(IF($C$35="Academic",M17*$E$5,IF($C$35="Summer",M17*$E$6,IF($C$35="Staff",M17*$G$5,IF($C$35="Student",M17*$G$6,0)))),0) -> 0 | N35: =ROUND(IF($C$35="Academic",N17*$E$5,IF($C$35="Summer",N17*$E$6,IF($C$35="Staff",N17*$G$5,IF($C$35="Student",N17*$G$6,0)))),0) -> 0 | O35: =ROUND(IF($C$35="Academic",O17*$E$5,IF($C$35="Summer",O17*$E$6,IF($C$35="Staff",O17*$G$5,IF($C$35="Student",O17*$G$6,0)))),0) -> 0 | P35: =SUM(K35:O35) -> 0
A36: =A18 -> 0 | B36: =B18 -> Co-PI 3 | C36: =C18 -> Summer | K36: =ROUND(IF($C$36="Academic",K18*$E$5,IF($C$36="Summer",K18*$E$6,IF($C$36="Staff",K18*$G$5,IF($C$36="Student",K18*$G$6,0)))),0) -> 0 | L36: =ROUND(IF($C$36="Academic",L18*$E$5,IF($C$36="Summer",L18*$E$6,IF($C$36="Staff",L18*$G$5,IF($C$36="Student",L18*$G$6,0)))),0) -> 0 | M36: =ROUND(IF($C$36="Academic",M18*$E$5,IF($C$36="Summer",M18*$E$6,IF($C$36="Staff",M18*$G$5,IF($C$36="Student",M18*$G$6,0)))),0) -> 0 | N36: =ROUND(IF($C$36="Academic",N18*$E$5,IF($C$36="Summer",N18*$E$6,IF($C$36="Staff",N18*$G$5,IF($C$36="Student",N18*$G$6,0)))),0) -> 0 | O36: =ROUND(IF($C$36="Academic",O18*$E$5,IF($C$36="Summer",O18*$E$6,IF($C$36="Staff",O18*$G$5,IF($C$36="Student",O18*$G$6,0)))),0) -> 0 | P36: =SUM(K36:O36) -> 0
A37: =A19 -> 0 | B37: =B19 -> Co-PI 4 | C37: =C19 -> Academic | K37: =ROUND(IF($C$37="Academic",K19*$E$5,IF($C$37="Summer",K19*$E$6,IF($C$37="Staff",K19*$G$5,IF($C$37="Student",K19*$G$6,0)))),0) -> 0 | L37: =ROUND(IF($C$37="Academic",L19*$E$5,IF($C$37="Summer",L19*$E$6,IF($C$37="Staff",L19*$G$5,IF($C$37="Student",L19*$G$6,0)))),0) -> 0 | M37: =ROUND(IF($C$37="Academic",M19*$E$5,IF($C$37="Summer",M19*$E$6,IF($C$37="Staff",M19*$G$5,IF($C$37="Student",M19*$G$6,0)))),0) -> 0 | N37: =ROUND(IF($C$37="Academic",N19*$E$5,IF($C$37="Summer",N19*$E$6,IF($C$37="Staff",N19*$G$5,IF($C$37="Student",N19*$G$6,0)))),0) -> 0 | O37: =ROUND(IF($C$37="Academic",O19*$E$5,IF($C$37="Summer",O19*$E$6,IF($C$37="Staff",O19*$G$5,IF($C$37="Student",O19*$G$6,0)))),0) -> 0 | P37: =SUM(K37:O37) -> 0
A38: =A20 -> 0 | B38: =B20 -> Co-PI 4 | C38: =C20 -> Summer | K38: =ROUND(IF($C$38="Academic",K20*$E$5,IF($C$38="Summer",K20*$E$6,IF($C$38="Staff",K20*$G$5,IF($C$38="Student",K20*$G$6,0)))),0) -> 0 | L38: =ROUND(IF($C$38="Academic",L20*$E$5,IF($C$38="Summer",L20*$E$6,IF($C$38="Staff",L20*$G$5,IF($C$38="Student",L20*$G$6,0)))),0) -> 0 | M38: =ROUND(IF($C$38="Academic",M20*$E$5,IF($C$38="Summer",M20*$E$6,IF($C$38="Staff",M20*$G$5,IF($C$38="Student",M20*$G$6,0)))),0) -> 0 | N38: =ROUND(IF($C$38="Academic",N20*$E$5,IF($C$38="Summer",N20*$E$6,IF($C$38="Staff",N20*$G$5,IF($C$38="Student",N20*$G$6,0)))),0) -> 0 | O38: =ROUND(IF($C$38="Academic",O20*$E$5,IF($C$38="Summer",O20*$E$6,IF($C$38="Staff",O20*$G$5,IF($C$38="Student",O20*$G$6,0)))),0) -> 0 | P38: =SUM(K38:O38) -> 0
A39: =A21 -> 0 | B39: =B21 -> Post-doc | C39: =C21 -> Academic | K39: =ROUND(IF($C$39="Academic",K21*$E$5,IF($C$39="Summer",K21*$E$6,IF($C$39="Staff",K21*$G$5,IF($C$39="Student",K21*$G$6,0)))),0) -> 0 | L39: =ROUND(IF($C$39="Academic",L21*$E$5,IF($C$39="Summer",L21*$E$6,IF($C$39="Staff",L21*$G$5,IF($C$39="Student",L21*$G$6,0)))),0) -> 0 | M39: =ROUND(IF($C$39="Academic",M21*$E$5,IF($C$39="Summer",M21*$E$6,IF($C$39="Staff",M21*$G$5,IF($C$39="Student",M21*$G$6,0)))),0) -> 0 | N39: =ROUND(IF($C$39="Academic",N21*$E$5,IF($C$39="Summer",N21*$E$6,IF($C$39="Staff",N21*$G$5,IF($C$39="Student",N21*$G$6,0)))),0) -> 0 | O39: =ROUND(IF($C$39="Academic",O21*$E$5,IF($C$39="Summer",O21*$E$6,IF($C$39="Staff",O21*$G$5,IF($C$39="Student",O21*$G$6,0)))),0) -> 0 | P39: =SUM(K39:O39) -> 0
A40: =A22 -> 0 | B40: =B22 -> Grad Student | C40: =C22 -> Student | K40: =ROUND(IF($C$40="Academic",K22*$E$5,IF($C$40="Summer",K22*$E$6,IF($C$40="Staff",K22*$G$5,IF($C$40="Student",K22*$G$6,0)))),0) -> 0 | L40: =ROUND(IF($C$40="Academic",L22*$E$5,IF($C$40="Summer",L22*$E$6,IF($C$40="Staff",L22*$G$5,IF($C$40="Student",L22*$G$6,0)))),0) -> 0 | M40: =ROUND(IF($C$40="Academic",M22*$E$5,IF($C$40="Summer",M22*$E$6,IF($C$40="Staff",M22*$G$5,IF($C$40="Student",M22*$G$6,0)))),0) -> 0 | N40: =ROUND(IF($C$40="Academic",N22*$E$5,IF($C$40="Summer",N22*$E$6,IF($C$40="Staff",N22*$G$5,IF($C$40="Student",N22*$G$6,0)))),0) -> 0 | O40: =ROUND(IF($C$40="Academic",O22*$E$5,IF($C$40="Summer",O22*$E$6,IF($C$40="Staff",O22*$G$5,IF($C$40="Student",O22*$G$6,0)))),0) -> 0 | P40: =SUM(K40:O40) -> 0
A41: =A23 -> 0 | B41: =B23 -> Grad Student | C41: =C23 -> Student | K41: =ROUND(IF($C$41="Academic",K23*$E$5,IF($C$41="Summer",K23*$E$6,IF($C$41="Staff",K23*$G$5,IF($C$41="Student",K23*$G$6,0)))),0) -> 0 | L41: =ROUND(IF($C$41="Academic",L23*$E$5,IF($C$41="Summer",L23*$E$6,IF($C$41="Staff",L23*$G$5,IF($C$41="Student",L23*$G$6,0)))),0) -> 0 | M41: =ROUND(IF($C$41="Academic",M23*$E$5,IF($C$41="Summer",M23*$E$6,IF($C$41="Staff",M23*$G$5,IF($C$41="Student",M23*$G$6,0)))),0) -> 0 | N41: =ROUND(IF($C$41="Academic",N23*$E$5,IF($C$41="Summer",N23*$E$6,IF($C$41="Staff",N23*$G$5,IF($C$41="Student",N23*$G$6,0)))),0) -> 0 | O41: =ROUND(IF($C$41="Academic",O23*$E$5,IF($C$41="Summer",O23*$E$6,IF($C$41="Staff",O23*$G$5,IF($C$41="Student",O23*$G$6,0)))),0) -> 0 | P41: =SUM(K41:O41) -> 0
A42: =A24 -> 0 | B42: =B24 -> UG Student | C42: =C24 -> Student | K42: =ROUND(IF($C$42="Academic",K24*$E$5,IF($C$42="Summer",K24*$E$6,IF($C$42="Staff",K24*$G$5,IF($C$42="Student",K24*$G$6,0)))),0) -> 0 | L42: =ROUND(IF($C$42="Academic",L24*$E$5,IF($C$42="Summer",L24*$E$6,IF($C$42="Staff",L24*$G$5,IF($C$42="Student",L24*$G$6,0)))),0) -> 0 | M42: =ROUND(IF($C$42="Academic",M24*$E$5,IF($C$42="Summer",M24*$E$6,IF($C$42="Staff",M24*$G$5,IF($C$42="Student",M24*$G$6,0)))),0) -> 0 | N42: =ROUND(IF($C$42="Academic",N24*$E$5,IF($C$42="Summer",N24*$E$6,IF($C$42="Staff",N24*$G$5,IF($C$42="Student",N24*$G$6,0)))),0) -> 0 | O42: =ROUND(IF($C$42="Academic",O24*$E$5,IF($C$42="Summer",O24*$E$6,IF($C$42="Staff",O24*$G$5,IF($C$42="Student",O24*$G$6,0)))),0) -> 0 | P42: =SUM(K42:O42) -> 0
...

Sheet Cost Share
A1: PI Name: | B1: =Budget!B1 -> 0 | G1: OSRP # | H1: =Budget!H1 -> 0
A2: Solicitation: | B2: =Budget!B2 -> 0
A4: IDC Rate (TYPE MTDC) | B4: =Budget!B4 -> 0.55 | D4: FRINGE BENEFIT RATES
A5: Inflation Rate | B5: =Budget!B5 -> 1.04 | D5: Academic | E5: =Budget!E5 -> 0.27 | F5: Staff | G5: =Budget!G5 -> 0.298
A6: Number of Budget Years | B6: =Budget!B6 -> 3 | D6: Summer | E6: =Budget!E6 -> 0.076 | F6: Student | G6: =Budget!G6 -> 0
A7: COST SHARE ACCOUNT NUMBER
D8: Acad. Appt. Months | F8: No. of Months Year 1 | G8: No. of Months Year 2 | H8: No. of Months Year 3 | I8: No. of Months Year 4 | J8: No. of Months Year 5
A9: SALARIES & WAGES | K9: Year | L9: Year | M9: Year | N9: Year | O9: Year | P9: TOTAL BUDGET
A10: Name | B10: Role | C10: Fringe Type | E10: Base Salary | K10: 1 | L10: 2 | M10: 3 | N10: 4 | O10: 5 | Q10: Check Sum
A11: =Budget!A11 -> 0 | B11: =Budget!B11 -> PI | C11: =Budget!C11 -> Academic | D11: =Budget!D11 -> 0 | E11: =Budget!E11 -> 0 | K11: =IF(D11>0,ROUND(($F11*$E11)/D11,0),0) -> 0 | L11: =IF($D$11>0,ROUND((G11*$E11*$B$5^(L10-1))/$D$11,0),0) -> 0 | M11: =IF($D$11>0,ROUND((H11*$E11*$B$5^(M10-1))/$D$11,0),0) -> 0 | N11: =IF($D$11>0,ROUND((I11*$E11*$B$5^(N10-1))/$D$11,0),0) -> 0 | O11: =IF($D$11>0,ROUND((J11*$E11*$B$5^(O10-1))/$D$11,0),0) -> 0 | P11: =SUM(K11:O11) -> 0
A12: =Budget!A12 -> 0 | B12: =Budget!B12 -> PI | C12: =Budget!C12 -> Summer | D12: =Budget!D12 -> 0 | E12: =Budget!E12 -> 0 | K12: =IF(D12>0,ROUND(($F12*$E12)/D12,0),0) -> 0 | L12: =IF($D$12>0,ROUND((G12*$E12*$B$5^(L$10-1))/$D$12,0),0) -> 0 | M12: =IF($D$12>0,ROUND((H12*$E12*$B$5^(M$10-1))/$D$12,0),0) -> 0 | N12: =IF($D$12>0,ROUND((I12*$E12*$B$5^(N$10-1))/$D$12,0),0) -> 0 | O12: =IF($D$12>0,ROUND((J12*$E12*$B$5^(O$10-1))/$D$12,0),0) -> 0 | P12: =SUM(K12:O12) -> 0
A13: =Budget!A13 -> 0 | B13: =Budget!B13 -> Co-PI 1 | C13: =Budget!C13 -> Academic | D13: =Budget!D13 -> 0 | E13: =Budget!E13 -> 0 | K13: =IF(D13>0,ROUND(($F13*$E13)/D13,0),0) -> 0 | L13: =IF($D$13>0,ROUND((G13*$E13*$B$5^(L$10-1))/$D$13,0),0) -> 0 | M13: =IF($D$13>0,ROUND((H13*$E13*$B$5^(M$10-1))/$D$13,0),0) -> 0 | N13: =IF($D$13>0,ROUND((I13*$E13*$B$5^(N$10-1))/$D$13,0),0) -> 0 | O13: =IF($D$13>0,ROUND((J13*$E13*$B$5^(O$10-1))/$D$13,0),0) -> 0 | P13: =SUM(K13:O13) -> 0
A14: =Budget!A14 -> 0 | B14: =Budget!B14 -> Co-PI 1 | C14: =Budget!C14 -> Summer | D14: =Budget!D14 -> 0 | E14: =Budget!E14 -> 0 | K14: =IF(D14>0,ROUND(($F14*$E14)/D14,0),0) -> 0 | L14: =IF($D$14>0,ROUND((G14*$E14*$B$5^(L$10-1))/$D$14,0),0) -> 0 | M14: =IF($D$14>0,ROUND((H14*$E14*$B$5^(M$10-1))/$D$14,0),0) -> 0 | N14: =IF($D$14>0,ROUND((I14*$E14*$B$5^(N$10-1))/$D$14,0),0) -> 0 | O14: =IF($D$14>0,ROUND((J14*$E14*$B$5^(O$10-1))/$D$14,0),0) -> 0 | P14: =SUM(K14:O14) -> 0
A15: =Budget!A15 -> 0 | B15: =Budget!B15 -> Co-PI 2 | C15: =Budget!C15 -> Academic | D15: =Budget!D15 -> 0 | E15: =Budget!E15 -> 0 | K15: =IF(D15>0,ROUND(($F15*$E15)/D15,0),0) -> 0 | L15: =IF($D$15>0,ROUND((G15*$E15*$B$5^(L$10-1))/$D$15,0),0) -> 0 | M15: =IF($D$15>0,ROUND((H15*$E15*$B$5^(M$10-1))/$D$15,0),0) -> 0 | N15: =IF($D$15>0,ROUND((I15*$E15*$B$5^(N$10-1))/$D$15,0),0) -> 0 | O15: =IF($D$15>0,ROUND((J15*$E15*$B$5^(O$10-1))/$D$15,0),0) -> 0 | P15: =SUM(K15:O15) -> 0
A16: =Budget!A16 -> 0 | B16: =Budget!B16 -> Co-PI 2 | C16: =Budget!C16 -> Summer | D16: =Budget!D16 -> 0 | E16: =Budget!E16 -> 0 | K16: =IF(D16>0,ROUND(($F16*$E16)/D16,0),0) -> 0 | L16: =IF($D$16>0,ROUND((G16*$E16*$B$5^(L$10-1))/$D$16,0),0) -> 0 | M16: =IF($D$16>0,ROUND((H16*$E16*$B$5^(M$10-1))/$D$16,0),0) -> 0 | N16: =IF($D$16>0,ROUND((I16*$E16*$B$5^(N$10-1))/$D$16,0),0) -> 0 | O16: =IF($D$16>0,ROUND((J16*$E16*$B$5^(O$10-1))/$D$16,0),0) -> 0 | P16: =SUM(K16:O16) -> 0
A17: =Budget!A17 -> 0 | B17: =Budget!B17 -> Co-PI 3 | C17: =Budget!C17 -> Academic | D17: =Budget!D17 -> 0 | E17: =Budget!E17 -> 0 | K17: =IF(D17>0,ROUND(($F17*$E17)/D17,0),0) -> 0 | L17: =IF($D$17>0,ROUND((G17*$E17*$B$5^(L$10-1))/$D$17,0),0) -> 0 | M17: =IF($D$17>0,ROUND((H17*$E17*$B$5^(M$10-1))/$D$17,0),0) -> 0 | N17: =IF($D$17>0,ROUND((I17*$E17*$B$5^(N$10-1))/$D$17,0),0) -> 0 | O17: =IF($D$17>0,ROUND((J17*$E17*$B$5^(O$10-1))/$D$17,0),0) -> 0 | P17: =SUM(K17:O17) -> 0
A18: =Budget!A18 -> 0 | B18: =Budget!B18 -> Co-PI 3 | C18: =Budget!C18 -> Summer | D18: =Budget!D18 -> 0 | E18: =Budget!E18 -> 0 | K18: =IF(D18>0,ROUND(($F18*$E18)/D18,0),0) -> 0 | L18: =IF($D$18>0,ROUND((G18*$E18*$B$5^(L$10-1))/$D$18,0),0) -> 0 | M18: =IF($D$18>0,ROUND((H18*$E18*$B$5^(M$10-1))/$D$18,0),0) -> 0 | N18: =IF($D$18>0,ROUND((I18*$E18*$B$5^(N$10-1))/$D$18,0),0) -> 0 | O18: =IF($D$18>0,ROUND((J18*$E18*$B$5^(O$10-1))/$D$18,0),0) -> 0 | P18: =SUM(K18:O18) -> 0
A19: =Budget!A19 -> 0 | B19: =Budget!B19 -> Co-PI 4 | C19: =Budget!C19 -> Academic | D19: =Budget!D19 -> 0 | E19: =Budget!E19 -> 0 | K19: =IF(D19>0,ROUND(($F19*$E19)/D19,0),0) -> 0 | L19: =IF($D$19>0,ROUND((G19*$E19*$B$5^(L$10-1))/$D$19,0),0) -> 0 | M19: =IF($D$19>0,ROUND((H19*$E19*$B$5^(M$10-1))/$D$19,0),0) -> 0 | N19: =IF($D$19>0,ROUND((I19*$E19*$B$5^(N$10-1))/$D$19,0),0) -> 0 | O19: =IF($D$19>0,ROUND((J19*$E19*$B$5^(O$10-1))/$D$19,0),0) -> 0 | P19: =SUM(K19:O19) -> 0
A20: =Budget!A20 -> 0 | B20: =Budget!B20 -> Co-PI 4 | C20: =Budget!C20 -> Summer | D20: =Budget!D20 -> 0 | E20: =Budget!E20 -> 0 | K20: =IF(D20>0,ROUND(($F20*$E20)/D20,0),0) -> 0 | L20: =IF($D$20>0,ROUND((G20*$E20*$B$5^(L$10-1))/$D$20,0),0) -> 0 | M20: =IF($D$20>0,ROUND((H20*$E20*$B$5^(M$10-1))/$D$20,0),0) -> 0 | N20: =IF($D$20>0,ROUND((I20*$E20*$B$5^(N$10-1))/$D$20,0),0) -> 0 | O20: =IF($D$20>0,ROUND((J20*$E20*$B$5^(O$10-1))/$D$20,0),0) -> 0 | P20: =SUM(K20:O20) -> 0
A21: =Budget!A21 -> 0 | B21: =Budget!B21 -> Post-doc | C21: =Budget!C21 -> Academic | D21: =Budget!D21 -> 0 | E21: =Budget!E21 -> 0 | K21: =IF(D21>0,ROUND(($F21*$E21)/D21,0),0) -> 0 | L21: =IF($D$21>0,ROUND((G21*$E21*$B$5^(L$10-1))/$D$21,0),0) -> 0 | M21: =IF($D$21>0,ROUND((H21*$E21*$B$5^(M$10-1))/$D$21,0),0) -> 0 | N21: =IF($D$21>0,ROUND((I21*$E21*$B$5^(N$10-1))/$D$21,0),0) -> 0 | O21: =IF($D$21>0,ROUND((J21*$E21*$B$5^(O$10-1))/$D$21,0),0) -> 0 | P21: =SUM(K21:O21) -> 0
A22: =Budget!A22 -> 0 | B22: =Budget!B22 -> Grad Student | C22: =Budget!C22 -> Student | D22: =Budget!D22 -> 0 | E22: =Budget!E22 -> 0 | K22: =IF(D22>0,ROUND(($F22*$E22)/D22,0),0) -> 0 | L22: =IF($D$22>0,ROUND((G22*$E22*$B$5^(L$10-1))/$D$22,0),0) -> 0 | M22: =IF($D$22>0,ROUND((H22*$E22*$B$5^(M$10-1))/$D$22,0),0) -> 0 | N22: =IF($D$22>0,ROUND((I22*$E22*$B$5^(N$10-1))/$D$22,0),0) -> 0 | O22: =IF($D$22>0,ROUND((J22*$E22*$B$5^(O$10-1))/$D$22,0),0) -> 0 | P22: =SUM(K22:O22) -> 0
A23: =Budget!A23 -> 0 | B23: =Budget!B23 -> Grad Student | C23: =Budget!C23 -> Student | D23: =Budget!D23 -> 0 | E23: =Budget!E23 -> 0 | K23: =IF(D23>0,ROUND(($F23*$E23)/D23,0),0) -> 0 | L23: =IF($D$23>0,ROUND((G23*$E23*$B$5^(L$10-1))/$D$23,0),0) -> 0 | M23: =IF($D$23>0,ROUND((H23*$E23*$B$5^(M$10-1))/$D$23,0),0) -> 0 | N23: =IF($D$23>0,ROUND((I23*$E23*$B$5^(N$10-1))/$D$23,0),0) -> 0 | O23: =IF($D$23>0,ROUND((J23*$E23*$B$5^(O$10-1))/$D$23,0),0) -> 0 | P23: =SUM(K23:O23) -> 0
A24: =Budget!A24 -> 0 | B24: =Budget!B24 -> UG Student | C24: =Budget!C24 -> Student | D24: =Budget!D24 -> 0 | E24: =Budget!E24 -> 0 | K24: =IF(D24>0,ROUND(($F24*$E24)/D24,0),0) -> 0 | L24: =IF($D$24>0,ROUND((G24*$E24*$B$5^(L$10-1))/$D$24,0),0) -> 0 | M24: =IF($D$24>0,ROUND((H24*$E24*$B$5^(M$10-1))/$D$24,0),0) -> 0 | N24: =IF($D$24>0,ROUND((I24*$E24*$B$5^(N$10-1))/$D$24,0),0) -> 0 | O24: =IF($D$24>0,ROUND((J24*$E24*$B$5^(O$10-1))/$D$24,0),0) -> 0 | P24: =SUM(K24:O24) -> 0
A25: =Budget!A25 -> 0 | B25: =Budget!B25 -> UG Student | C25: =Budget!C25 -> Student | D25: =Budget!D25 -> 0 | E25: =Budget!E25 -> 0 | K25: =IF(D25>0,ROUND(($F25*$E25)/D25,0),) -> 0 | L25: =IF($D$25>0,ROUND((G25*$E25*$B$5^(L$10-1))/$D$25,0),0) -> 0 | M25: =IF($D$25>0,ROUND((H25*$E25*$B$5^(M$10-1))/$D$25,0),0) -> 0 | N25: =IF($D$25>0,ROUND((I25*$E25*$B$5^(N$10-1))/$D$25,0),0) -> 0 | O25: =IF($D$25>0,ROUND((J25*$E25*$B$5^(O$10-1))/$D$25,0),0) -> 0 | P25: =SUM(K25:O25) -> 0
A26: TOTAL SALARIES & WAGES | K26: =SUM(K11:K25) -> 0 | L26: =SUM(L11:L25) -> 0 | M26: =SUM(M11:M25) -> 0 | N26: =SUM(N11:N25) -> 0 | O26: =SUM(O11:O25) -> 0 | P26: =SUM(P11:P25) -> 0 | Q26: =SUM(K26:O26) -> 0
A28: FRINGE BENEFITS | K28: YEAR 1 | L28: YEAR 2 | M28: YEAR 3 | N28: YEAR 4 | O28: YEAR 5 | P28: TOTAL
A29: =A11 -> 0 | B29: =B11 -> PI | C29: =C11 -> Academic | K29: =ROUND(IF($C$29="Academic",K11*$E$5,IF($C$29="Summer",K11*$E$6,IF($C$29="Staff",K11*$G$5,IF($C$29="Student",K11*$G$6,0)))),0) -> 0 | L29: =ROUND(IF($C$29="Academic",L11*$E$5,IF($C$29="Summer",L11*$E$6,IF($C$29="Staff",L11*$G$5,IF($C$29="Student",L11*$G$6,0)))),0) -> 0 | M29: =ROUND(IF($C$29="Academic",M11*$E$5,IF($C$29="Summer",M11*$E$6,IF($C$29="Staff",M11*$G$5,IF($C$29="Student",M11*$G$6,0)))),0) -> 0 | N29: =ROUND(IF($C$29="Academic",N11*$E$5,IF($C$29="Summer",N11*$E$6,IF($C$29="Staff",N11*$G$5,IF($C$29="Student",N11*$G$6,0)))),0) -> 0 | O29: =ROUND(IF($C$29="Academic",O11*$E$5,IF($C$29="Summer",O11*$E$6,IF($C$29="Staff",O11*$G$5,IF($C$29="Student",O11*$G$6,0)))),0) -> 0 | P29: =SUM(K29:O29) -> 0
A30: =A12 -> 0 | B30: =B12 -> PI | C30: =C12 -> Summer | K30: =ROUND(IF($C$30="Academic",K12*$E$5,IF($C$30="Summer",K12*$E$6,IF($C$30="Staff",K12*$G$5,IF($C$30="Student",K12*$G$6,0)))),0) -> 0 | L30: =ROUND(IF($C$30="Academic",L12*$E$5,IF($C$30="Summer",L12*$E$6,IF($C$30="Staff",L12*$G$5,IF($C$30="Student",L12*$G$6,0)))),0) -> 0 | M30: =ROUND(IF($C$30="Academic",M12*$E$5,IF($C$30="Summer",M12*$E$6,IF($C$30="Staff",M12*$G$5,IF($C$30="Student",M12*$G$6,0)))),0) -> 0 | N30: =ROUND(IF($C$30="Academic",N12*$E$5,IF($C$30="Summer",N12*$E$6,IF($C$30="Staff",N12*$G$5,IF($C$30="Student",N12*$G$6,0)))),0) -> 0 | O30: =ROUND(IF($C$30="Academic",O12*$E$5,IF($C$30="Summer",O12*$E$6,IF($C$30="Staff",O12*$G$5,IF($C$30="Student",O12*$G$6,0)))),0) -> 0 | P30: =SUM(K30:O30) -> 0
A31: =A13 -> 0 | B31: =B13 -> Co-PI 1 | C31: =C13 -> Academic | K31: =ROUND(IF($C$31="Academic",K13*$E$5,IF($C$31="Summer",K13*$E$6,IF($C$31="Staff",K13*$G$5,IF($C$31="Student",K13*$G$6,0)))),0) -> 0 | L31: =ROUND(IF($C$31="Academic",L13*$E$5,IF($C$31="Summer",L13*$E$6,IF($C$31="Staff",L13*$G$5,IF($C$31="Student",L13*$G$6,0)))),0) -> 0 | M31: =ROUND(IF($C$31="Academic",M13*$E$5,IF($C$31="Summer",M13*$E$6,IF($C$31="Staff",M13*$G$5,IF($C$31="Student",M13*$G$6,0)))),0) -> 0 | N31: =ROUND(IF($C$31="Academic",N13*$E$5,IF($C$31="Summer",N13*$E$6,IF($C$31="Staff",N13*$G$5,IF($C$31="Student",N13*$G$6,0)))),0) -> 0 | O31: =ROUND(IF($C$31="Academic",O13*$E$5,IF($C$31="Summer",O13*$E$6,IF($C$31="Staff",O13*$G$5,IF($C$31="Student",O13*$G$6,0)))),0) -> 0 | P31: =SUM(K31:O31) -> 0
A32: =A14 -> 0 | B32: =B14 -> Co-PI 1 | C32: =C14 -> Summer | K32: =ROUND(IF($C$32="Academic",K14*$E$5,IF($C$32="Summer",K14*$E$6,IF($C$32="Staff",K14*$G$5,IF($C$32="Student",K14*$G$6,0)))),0) -> 0 | L32: =ROUND(IF($C$32="Academic",L14*$E$5,IF($C$32="Summer",L14*$E$6,IF($C$32="Staff",L14*$G$5,IF($C$32="Student",L14*$G$6,0)))),0) -> 0 | M32: =ROUND(IF($C$32="Academic",M14*$E$5,IF($C$32="Summer",M14*$E$6,IF($C$32="Staff",M14*$G$5,IF($C$32="Student",M14*$G$6,0)))),0) -> 0 | N32: =ROUND(IF($C$32="Academic",N14*$E$5,IF($C$32="Summer",N14*$E$6,IF($C$32="Staff",N14*$G$5,IF($C$32="Student",N14*$G$6,0)))),0) -> 0 | O32: =ROUND(IF($C$32="Academic",O14*$E$5,IF($C$32="Summer",O14*$E$6,IF($C$32="Staff",O14*$G$5,IF($C$32="Student",O14*$G$6,0)))),0) -> 0 | P32: =SUM(K32:O32) -> 0
A33: =A15 -> 0 | B33: =B15 -> Co-PI 2 | C33: =C15 -> Academic | K33: =ROUND(IF($C$33="Academic",K15*$E$5,IF($C$33="Summer",K15*$E$6,IF($C$33="Staff",K15*$G$5,IF($C$33="Student",K15*$G$6,0)))),0) -> 0 | L33: =ROUND(IF($C$33="Academic",L15*$E$5,IF($C$33="Summer",L15*$E$6,IF($C$33="Staff",L15*$G$5,IF($C$33="Student",L15*$G$6,0)))),0) -> 0 | M33: =ROUND(IF($C$33="Academic",M15*$E$5,IF($C$33="Summer",M15*$E$6,IF($C$33="Staff",M15*$G$5,IF($C$33="Student",M15*$G$6,0)))),0) -> 0 | N33: =ROUND(IF($C$33="Academic",N15*$E$5,IF($C$33="Summer",N15*$E$6,IF($C$33="Staff",N15*$G$5,IF($C$33="Student",N15*$G$6,0)))),0) -> 0 | O33: =ROUND(IF($C$33="Academic",O15*$E$5,IF($C$33="Summer",O15*$E$6,IF($C$33="Staff",O15*$G$5,IF($C$33="Student",O15*$G$6,0)))),0) -> 0 | P33: =SUM(K33:O33) -> 0
A34: =A16 -> 0 | B34: =B16 -> Co-PI 2 | C34: =C16 -> Summer | K34: =ROUND(IF($C$34="Academic",K16*$E$5,IF($C$34="Summer",K16*$E$6,IF($C$34="Staff",K16*$G$5,IF($C$34="Student",K16*$G$6,0)))),0) -> 0 | L34: =ROUND(IF($C$34="Academic",L16*$E$5,IF($C$34="Summer",L16*$E$6,IF($C$34="Staff",L16*$G$5,IF($C$34="Student",L16*$G$6,0)))),0) -> 0 | M34: =ROUND(IF($C$34="Academic",M16*$E$5,IF($C$34="Summer",M16*$E$6,IF($C$34="Staff",M16*$G$5,IF($C$34="Student",M16*$G$6,0)))),0) -> 0 | N34: =ROUND(IF($C$34="Academic",N16*$E$5,IF($C$34="Summer",N16*$E$6,IF($C$34="Staff",N16*$G$5,IF($C$34="Student",N16*$G$6,0)))),0) -> 0 | O34: =ROUND(IF($C$34="Academic",O16*$E$5,IF($C$34="Summer",O16*$E$6,IF($C$34="Staff",O16*$G$5,IF($C$34="Student",O16*$G$6,0)))),0) -> 0 | P34: =SUM(K34:O34) -> 0
A35: =A17 -> 0 | B35: =B17 -> Co-PI 3 | C35: =C17 -> Academic | K35: =ROUND(IF($C$35="Academic",K17*$E$5,IF($C$35="Summer",K17*$E$6,IF($C$35="Staff",K17*$G$5,IF($C$35="Student",K17*$G$6,0)))),0) -> 0 | L35: =ROUND(IF($C$35="Academic",L17*$E$5,IF($C$35="Summer",L17*$E$6,IF($C$35="Staff",L17*$G$5,IF($C$35="Student",L17*$G$6,0)))),0) -> 0 | M35: =ROUND(IF($C$35="Academic",M17*$E$5,IF($C$35="Summer",M17*$E$6,IF($C$35="Staff",M17*$G$5,IF($C$35="Student",M17*$G$6,0)))),0) -> 0 | N35: =ROUND(IF($C$35="Academic",N17*$E$5,IF($C$35="Summer",N17*$E$6,IF($C$35="Staff",N17*$G$5,IF($C$35="Student",N17*$G$6,0)))),0) -> 0 | O35: =ROUND(IF($C$35="Academic",O17*$E$5,IF($C$35="Summer",O17*$E$6,IF($C$35="Staff",O17*$G$5,IF($C$35="Student",O17*$G$6,0)))),0) -> 0 | P35: =SUM(K35:O35) -> 0
A36: =A18 -> 0 | B36: =B18 -> Co-PI 3 | C36: =C18 -> Summer | K36: =ROUND(IF($C$36="Academic",K18*$E$5,IF($C$36="Summer",K18*$E$6,IF($C$36="Staff",K18*$G$5,IF($C$36="Student",K18*$G$6,0)))),0) -> 0 | L36: =ROUND(IF($C$36="Academic",L18*$E$5,IF($C$36="Summer",L18*$E$6,IF($C$36="Staff",L18*$G$5,IF($C$36="Student",L18*$G$6,0)))),0) -> 0 | M36: =ROUND(IF($C$36="Academic",M18*$E$5,IF($C$36="Summer",M18*$E$6,IF($C$36="Staff",M18*$G$5,IF($C$36="Student",M18*$G$6,0)))),0) -> 0 | N36: =ROUND(IF($C$36="Academic",N18*$E$5,IF($C$36="Summer",N18*$E$6,IF($C$36="Staff",N18*$G$5,IF($C$36="Student",N18*$G$6,0)))),0) -> 0 | O36: =ROUND(IF($C$36="Academic",O18*$E$5,IF($C$36="Summer",O18*$E$6,IF($C$36="Staff",O18*$G$5,IF($C$36="Student",O18*$G$6,0)))),0) -> 0 | P36: =SUM(K36:O36) -> 0
A37: =A19 -> 0 | B37: =B19 -> Co-PI 4 | C37: =C19 -> Academic | K37: =ROUND(IF($C$37="Academic",K19*$E$5,IF($C$37="Summer",K19*$E$6,IF($C$37="Staff",K19*$G$5,IF($C$37="Student",K19*$G$6,0)))),0) -> 0 | L37: =ROUND(IF($C$37="Academic",L19*$E$5,IF($C$37="Summer",L19*$E$6,IF($C$37="Staff",L19*$G$5,IF($C$37="Student",L19*$G$6,0)))),0) -> 0 | M37: =ROUND(IF($C$37="Academic",M19*$E$5,IF($C$37="Summer",M19*$E$6,IF($C$37="Staff",M19*$G$5,IF($C$37="Student",M19*$G$6,0)))),0) -> 0 | N37: =ROUND(IF($C$37="Academic",N19*$E$5,IF($C$37="Summer",N19*$E$6,IF($C$37="Staff",N19*$G$5,IF($C$37="Student",N19*$G$6,0)))),0) -> 0 | O37: =ROUND(IF($C$37="Academic",O19*$E$5,IF($C$37="Summer",O19*$E$6,IF($C$37="Staff",O19*$G$5,IF($C$37="Student",O19*$G$6,0)))),0) -> 0 | P37: =SUM(K37:O37) -> 0
A38: =A20 -> 0 | B38: =B20 -> Co-PI 4 | C38: =C20 -> Summer | K38: =ROUND(IF($C$38="Academic",K20*$E$5,IF($C$38="Summer",K20*$E$6,IF($C$38="Staff",K20*$G$5,IF($C$38="Student",K20*$G$6,0)))),0) -> 0 | L38: =ROUND(IF($C$38="Academic",L20*$E$5,IF($C$38="Summer",L20*$E$6,IF($C$38="Staff",L20*$G$5,IF($C$38="Student",L20*$G$6,0)))),0) -> 0 | M38: =ROUND(IF($C$38="Academic",M20*$E$5,IF($C$38="Summer",M20*$E$6,IF($C$38="Staff",M20*$G$5,IF($C$38="Student",M20*$G$6,0)))),0) -> 0 | N38: =ROUND(IF($C$38="Academic",N20*$E$5,IF($C$38="Summer",N20*$E$6,IF($C$38="Staff",N20*$G$5,IF($C$38="Student",N20*$G$6,0)))),0) -> 0 | O38: =ROUND(IF($C$38="Academic",O20*$E$5,IF($C$38="Summer",O20*$E$6,IF($C$38="Staff",O20*$G$5,IF($C$38="Student",O20*$G$6,0)))),0) -> 0 | P38: =SUM(K38:O38) -> 0
A39: =A21 -> 0 | B39: =B21 -> Post-doc | C39: =C21 -> Academic | K39: =ROUND(IF($C$39="Academic",K21*$E$5,IF($C$39="Summer",K21*$E$6,IF($C$39="Staff",K21*$G$5,IF($C$39="Student",K21*$G$6,0)))),0) -> 0 | L39: =ROUND(IF($C$39="Academic",L21*$E$5,IF($C$39="Summer",L21*$E$6,IF($C$39="Staff",L21*$G$5,IF($C$39="Student",L21*$G$6,0)))),0) -> 0 | M39: =ROUND(IF($C$39="Academic",M21*$E$5,IF($C$39="Summer",M21*$E$6,IF($C$39="Staff",M21*$G$5,IF($C$39="Student",M21*$G$6,0)))),0) -> 0 | N39: =ROUND(IF($C$39="Academic",N21*$E$5,IF($C$39="Summer",N21*$E$6,IF($C$39="Staff",N21*$G$5,IF($C$39="Student",N21*$G$6,0)))),0) -> 0 | O39: =ROUND(IF($C$39="Academic",O21*$E$5,IF($C$39="Summer",O21*$E$6,IF($C$39="Staff",O21*$G$5,IF($C$39="Student",O21*$G$6,0)))),0) -> 0 | P39: =SUM(K39:O39) -> 0
A40: =A22 -> 0 | B40: =B22 -> Grad Student | C40: =C22 -> Student | K40: =ROUND(IF($C$40="Academic",K22*$E$5,IF($C$40="Summer",K22*$E$6,IF($C$40="Staff",K22*$G$5,IF($C$40="Student",K22*$G$6,0)))),0) -> 0 | L40: =ROUND(IF($C$40="Academic",L22*$E$5,IF($C$40="Summer",L22*$E$6,IF($C$40="Staff",L22*$G$5,IF($C$40="Student",L22*$G$6,0)))),0) -> 0 | M40: =ROUND(IF($C$40="Academic",M22*$E$5,IF($C$40="Summer",M22*$E$6,IF($C$40="Staff",M22*$G$5,IF($C$40="Student",M22*$G$6,0)))),0) -> 0 | N40: =ROUND(IF($C$40="Academic",N22*$E$5,IF($C$40="Summer",N22*$E$6,IF($C$40="Staff",N22*$G$5,IF($C$40="Student",N22*$G$6,0)))),0) -> 0 | O40: =ROUND(IF($C$40="Academic",O22*$E$5,IF($C$40="Summer",O22*$E$6,IF($C$40="Staff",O22*$G$5,IF($C$40="Student",O22*$G$6,0)))),0) -> 0 | P40: =SUM(K40:O40) -> 0
A41: =A23 -> 0 | B41: =B23 -> Grad Student | C41: =C23 -> Student | K41: =ROUND(IF($C$41="Academic",K23*$E$5,IF($C$41="Summer",K23*$E$6,IF($C$41="Staff",K23*$G$5,IF($C$41="Student",K23*$G$6,0)))),0) -> 0 | L41: =ROUND(IF($C$41="Academic",L23*$E$5,IF($C$41="Summer",L23*$E$6,IF($C$41="Staff",L23*$G$5,IF($C$41="Student",L23*$G$6,0)))),0) -> 0 | M41: =ROUND(IF($C$41="Academic",M23*$E$5,IF($C$41="Summer",M23*$E$6,IF($C$41="Staff",M23*$G$5,IF($C$41="Student",M23*$G$6,0)))),0) -> 0 | N41: =ROUND(IF($C$41="Academic",N23*$E$5,IF($C$41="Summer",N23*$E$6,IF($C$41="Staff",N23*$G$5,IF($C$41="Student",N23*$G$6,0)))),0) -> 0 | O41: =ROUND(IF($C$41="Academic",O23*$E$5,IF($C$41="Summer",O23*$E$6,IF($C$41="Staff",O23*$G$5,IF($C$41="Student",O23*$G$6,0)))),0) -> 0 | P41: =SUM(K41:O41) -> 0
A42: =A24 -> 0 | B42: =B24 -> UG Student | C42: =C24 -> Student | K42: =ROUND(IF($C$42="Academic",K24*$E$5,IF($C$42="Summer",K24*$E$6,IF($C$42="Staff",K24*$G$5,IF($C$42="Student",K24*$G$6,0)))),0) -> 0 | L42: =ROUND(IF($C$42="Academic",L24*$E$5,IF($C$42="Summer",L24*$E$6,IF($C$42="Staff",L24*$G$5,IF($C$42="Student",L24*$G$6,0)))),0) -> 0 | M42: =ROUND(IF($C$42="Academic",M24*$E$5,IF($C$42="Summer",M24*$E$6,IF($C$42="Staff",M24*$G$5,IF($C$42="Student",M24*$G$6,0)))),0) -> 0 | N42: =ROUND(IF($C$42="Academic",N24*$E$5,IF($C$42="Summer",N24*$E$6,IF($C$42="Staff",N24*$G$5,IF($C$42="Student",N24*$G$6,0)))),0) -> 0 | O42: =ROUND(IF($C$42="Academic",O24*$E$5,IF($C$42="Summer",O24*$E$6,IF($C$42="Staff",O24*$G$5,IF($C$42="Student",O24*$G$6,0)))),0) -> 0 | P42: =SUM(K42:O42) -> 0
...

Sheet Re-Budget
A1: PI Name: | B1: =Budget!B1 -> 0 | G1: OSRP# | H1: =Budget!H1 -> 0
A2: Solicitation: | B2: =Budget!B2 -> 0
A4: IDC Rate (TYPE MTDC) | B4: =Budget!B4 -> 0.55 | D4: Enter Current FRINGE BENEFIT RATES
A5: Inflation Rate | B5: 1.04 | D5: Academic | F5: Staff
A6: Number of Budget Years | B6: =Budget!B6 -> 3 | D6: Summer | F6: Student
D8: Acad. Appt. (Months) | F8: Effort Re-budget
A9: SALARIES & WAGES | G9: Original TL Budget | H9: TL EXP to Date | I9: REV Budget | J9: TL BUDGET REV
A10: Name | B10: Role | C10: Fringe Type | E10: Base Salary | K10: Check Sum
A11: =Budget!A11 -> 0 | B11: PI | C11: Academic | G11: =Budget!P11 -> 0 | I11: =ROUND(IF(F11>0,F11*E11/D11,0),0) -> 0 | J11: =SUM(H11:I11) -> 0
A12: =Budget!A12 -> 0 | B12: =B11 -> PI | C12: Summer | D12: =D11 -> 0 | E12: =E11 -> 0 | G12: =Budget!P12 -> 0 | I12: =ROUND(IF(F12>0,F12*E12/D12,0),0) -> 0 | J12: =SUM(H12:I12) -> 0
A13: =Budget!A13 -> 0 | B13: Co-PI 1 | C13: Academic | G13: =Budget!P13 -> 0 | I13: =ROUND(IF(F13>0,F13*E13/D13,0),0) -> 0 | J13: =SUM(H13:I13) -> 0
A14: =Budget!A14 -> 0 | B14: =B13 -> Co-PI 1 | C14: Summer | D14: =D13 -> 0 | E14: =E13 -> 0 | G14: =Budget!P14 -> 0 | I14: =ROUND(IF(F14>0,F14*E14/D14,0),0) -> 0 | J14: =SUM(H14:I14) -> 0
A15: =Budget!A15 -> 0 | B15: Co-PI 2 | C15: Academic | G15: =Budget!P15 -> 0 | I15: =ROUND(IF(F15>0,F15*E15/D15,0),0) -> 0 | J15: =SUM(H15:I15) -> 0
A16: =Budget!A16 -> 0 | B16: =B15 -> Co-PI 2 | C16: Summer | D16: =D15 -> 0 | E16: =E15 -> 0 | G16: =Budget!P16 -> 0 | I16: =ROUND(IF(F16>0,F16*E16/D16,0),0) -> 0 | J16: =SUM(H16:I16) -> 0
A17: =Budget!A17 -> 0 | B17: Co-PI 3 | C17: Academic | G17: =Budget!P17 -> 0 | I17: =ROUND(IF(F17>0,F17*E17/D17,0),0) -> 0 | J17: =SUM(H17:I17) -> 0
A18: =Budget!A18 -> 0 | B18: =B17 -> Co-PI 3 | C18: Summer | D18: =D17 -> 0 | E18: =E17 -> 0 | G18: =Budget!P18 -> 0 | I18: =ROUND(IF(F18>0,F18*E18/D18,0),0) -> 0 | J18: =SUM(H18:I18) -> 0
A19: =Budget!A19 -> 0 | B19: Co-PI 4 | C19: Academic | G19: =Budget!P19 -> 0 | I19: =ROUND(IF(F19>0,F19*E19/D19,0),0) -> 0 | J19: =SUM(H19:I19) -> 0
A20: =Budget!A20 -> 0 | B20: =B19 -> Co-PI 4 | C20: Summer | D20: =D19 -> 0 | E20: =E19 -> 0 | G20: =Budget!P20 -> 0 | I20: =ROUND(IF(F20>0,F20*E20/D20,0),0) -> 0 | J20: =SUM(H20:I20) -> 0
A21: =Budget!A21 -> 0 | B21: Post-doc | C21: Academic | G21: =Budget!P21 -> 0 | I21: =ROUND(IF(F21>0,F21*E21/D21,0),0) -> 0 | J21: =SUM(H21:I21) -> 0
A22: =Budget!A22 -> 0 | B22: Grad Student | C22: Student | G22: =Budget!P22 -> 0 | I22: =ROUND(IF(F22>0,F22*E22/D22,0),0) -> 0 | J22: =SUM(H22:I22) -> 0
A23: =Budget!A23 -> 0 | B23: Grad Student | C23: Student | G23: =Budget!P23 -> 0 | I23: =ROUND(IF(F23>0,F23*E23/D23,0),0) -> 0 | J23: =SUM(H23:I23) -> 0
A24: =Budget!A24 -> 0 | B24: UG Student | C24: Student | G24: =Budget!P24 -> 0 | I24: =ROUND(IF(F24>0,F24*E24/D24,0),0) -> 0 | J24: =SUM(H24:I24) -> 0
A25: =Budget!A25 -> 0 | B25: TBD | C25: TBD | G25: =Budget!P25 -> 0 | I25: =ROUND(IF(F25>0,F25*E25/D25,0),0) -> 0 | J25: =SUM(H25:I25) -> 0
A26: TOTAL SALARIES & WAGES | G26: =Budget!P26 -> 0 | H26: =SUM(H11:H25) -> 0 | I26: =SUM(I11:I25) -> 0 | J26: =SUM(J11:J25) -> 0 | K26: =SUM(H26:I26) -> 0
A28: FRINGE BENEFITS | G28: Original | H28: Exp | I28: Re-Bud | J28: TL REV
A29: =A11 -> 0 | B29: =B11 -> PI | C29: =C11 -> Academic | G29: =Budget!P29 -> 0 | I29: =ROUND(IF($C$29="Academic",I11*$E$5,IF($C$29="Summer",I11*$E$6,IF($C$29="Staff",I11*$G$5,IF($C$29="Student",I11*$G$6,0)))),0) -> 0 | J29: =SUM(H29:I29) -> 0
A30: =A12 -> 0 | B30: =B12 -> PI | C30: =C12 -> Summer | G30: =Budget!P30 -> 0 | I30: =ROUND(IF($C$30="Academic",I12*$E$5,IF($C$30="Summer",I12*$E$6,IF($C$30="Staff",I12*$G$5,IF($C$30="Student",I12*$G$6,0)))),0) -> 0 | J30: =SUM(H30:I30) -> 0
A31: =A13 -> 0 | B31: =B13 -> Co-PI 1 | C31: =C13 -> Academic | G31: =Budget!P31 -> 0 | I31: =ROUND(IF($C$31="Academic",I13*$E$5,IF($C$31="Summer",I13*$E$6,IF($C$31="Staff",I13*$G$5,IF($C$31="Student",I13*$G$6,0)))),0) -> 0 | J31: =SUM(H31:I31) -> 0
A32: =A14 -> 0 | B32: =B14 -> Co-PI 1 | C32: =C14 -> Summer | G32: =Budget!P32 -> 0 | I32: =ROUND(IF($C$32="Academic",I14*$E$5,IF($C$32="Summer",I14*$E$6,IF($C$32="Staff",I14*$G$5,IF($C$32="Student",I14*$G$6,0)))),0) -> 0 | J32: =SUM(H32:I32) -> 0
A33: =A15 -> 0 | B33: =B15 -> Co-PI 2 | C33: =C15 -> Academic | G33: =Budget!P33 -> 0 | I33: =ROUND(IF($C$33="Academic",I15*$E$5,IF($C$33="Summer",I15*$E$6,IF($C$33="Staff",I15*$G$5,IF($C$33="Student",I15*$G$6,0)))),0) -> 0 | J33: =SUM(H33:I33) -> 0
A34: =A16 -> 0 | B34: =B16 -> Co-PI 2 | C34: =C16 -> Summer | G34: =Budget!P34 -> 0 | I34: =ROUND(IF($C$34="Academic",I16*$E$5,IF($C$34="Summer",I16*$E$6,IF($C$34="Staff",I16*$G$5,IF($C$34="Student",I16*$G$6,0)))),0) -> 0 | J34: =SUM(H34:I34) -> 0
A35: =A17 -> 0 | B35: =B17 -> Co-PI 3 | C35: =C17 -> Academic | G35: =Budget!P35 -> 0 | I35: =ROUND(IF($C$35="Academic",I17*$E$5,IF($C$35="Summer",I17*$E$6,IF($C$35="Staff",I17*$G$5,IF($C$35="Student",I17*$G$6,0)))),0) -> 0 | J35: =SUM(H35:I35) -> 0
A36: =A18 -> 0 | B36: =B18 -> Co-PI 3 | C36: =C18 -> Summer | G36: =Budget!P36 -> 0 | I36: =ROUND(IF($C$36="Academic",I18*$E$5,IF($C$36="Summer",I18*$E$6,IF($C$36="Staff",I18*$G$5,IF($C$36="Student",I18*$G$6,0)))),0) -> 0 | J36: =SUM(H36:I36) -> 0
A37: =A19 -> 0 | B37: =B19 -> Co-PI 4 | C37: =C19 -> Academic | G37: =Budget!P37 -> 0 | I37: =ROUND(IF($C$37="Academic",I19*$E$5,IF($C$37="Summer",I19*$E$6,IF($C$37="Staff",I19*$G$5,IF($C$37="Student",I19*$G$6,0)))),0) -> 0 | J37: =SUM(H37:I37) -> 0
A38: =A20 -> 0 | B38: =B20 -> Co-PI 4 | C38: =C20 -> Summer | G38: =Budget!P38 -> 0 | I38: =ROUND(IF($C$38="Academic",I20*$E$5,IF($C$38="Summer",I20*$E$6,IF($C$38="Staff",I20*$G$5,IF($C$38="Student",I20*$G$6,0)))),0) -> 0 | J38: =SUM(H38:I38) -> 0
A39: =A21 -> 0 | B39: =B21 -> Post-doc | C39: =C21 -> Academic | G39: =Budget!P39 -> 0 | I39: =ROUND(IF($C$39="Academic",I21*$E$5,IF($C$39="Summer",I21*$E$6,IF($C$39="Staff",I21*$G$5,IF($C$39="Student",I21*$G$6,0)))),0) -> 0 | J39: =SUM(H39:I39) -> 0
A40: =A22 -> 0 | B40: =B22 -> Grad Student | C40: =C22 -> Student | G40: =Budget!P40 -> 0 | I40: =ROUND(IF($C$40="Academic",I22*$E$5,IF($C$40="Summer",I22*$E$6,IF($C$40="Staff",I22*$G$5,IF($C$40="Student",I22*$G$6,0)))),0) -> 0 | J40: =SUM(H40:I40) -> 0
A41: =A23 -> 0 | B41: =B23 -> Grad Student | C41: =C23 -> Student | G41: =Budget!P41 -> 0 | I41: =ROUND(IF($C$41="Academic",I23*$E$5,IF($C$41="Summer",I23*$E$6,IF($C$41="Staff",I23*$G$5,IF($C$41="Student",I23*$G$6,0)))),0) -> 0 | J41: =SUM(H41:I41) -> 0
A42: =A24 -> 0 | B42: =B24 -> UG Student | C42: =C24 -> Student | G42: =Budget!P42 -> 0 | I42: =ROUND(IF($C$42="Academic",I24*$E$5,IF($C$42="Summer",I24*$E$6,IF($C$42="Staff",I24*$G$5,IF($C$42="Student",I24*$G$6,0)))),0) -> 0 | J42: =SUM(H42:I42) -> 0
A43: =A25 -> 0 | B43: =B25 -> TBD | C43: =C25 -> TBD | G43: =Budget!P43 -> 0 | I43: =ROUND(IF($C$43="Academic",I25*$E$5,IF($C$43="Summer",I25*$E$6,IF($C$43="Staff",I25*$G$5,IF($C$43="Student",I25*$G$6,0)))),0) -> 0 | J43: =SUM(H43:I43) -> 0
...

Sheet Re-Budget CS
A1: PI Name: | B1: =Budget!B1 -> 0 | G1: OSRP # | H1: =Budget!H1 -> 0
A2: Solicitation: | B2: =Budget!B2 -> 0
A4: IDC Rate (TYPE MTDC) | B4: ='Cost Share'!B4 -> 0.55 | D4: FRINGE BENEFIT RATES
A5: Inflation Rate | B5: =Budget!B5 -> 1.04 | D5: Academic | E5: ='Re-Budget'!E5 -> 0 | F5: Staff | G5: ='Re-Budget'!G5 -> 0
A6: Number of Budget Years | B6: =Budget!B6 -> 3 | D6: Summer | E6: ='Re-Budget'!E6 -> 0 | F6: Student | G6: ='Re-Budget'!G6 -> 0
A7: COST SHARE ACCOUNT NUMBER
D8: Acad. Appt. Months | F8: Effort Re-budget | G8: Original TL Budget | H8: TL EXP to Date | I8: REV Budget | J8: TL BUDGET REV
A9: SALARIES & WAGES
A10: Name | B10: Role | C10: Fringe Type | E10: Base Salary | K10: Check Sum
A11: ='Re-Budget'!A11 -> 0 | B11: ='Re-Budget'!B11 -> PI | C11: ='Re-Budget'!C11 -> Academic | D11: ='Re-Budget'!D11 -> 0 | E11: ='Re-Budget'!E11 -> 0 | G11: ='Cost Share'!P11 -> 0 | H11: =G11-I11 -> 0 | I11: =ROUND(IF(F11>0,F11*E11/D11,0),0) -> 0 | J11: =SUM(H11:I11) -> 0
A12: ='Re-Budget'!A12 -> 0 | B12: ='Re-Budget'!B12 -> PI | C12: ='Re-Budget'!C12 -> Summer | D12: ='Re-Budget'!D12 -> 0 | E12: ='Re-Budget'!E12 -> 0 | G12: ='Cost Share'!P12 -> 0 | H12: =G12-I12 -> 0 | I12: =ROUND(IF(F12>0,F12*E12/D12,0),0) -> 0 | J12: =SUM(H12:I12) -> 0
A13: ='Re-Budget'!A13 -> 0 | B13: ='Re-Budget'!B13 -> Co-PI 1 | C13: ='Re-Budget'!C13 -> Academic | D13: ='Re-Budget'!D13 -> 0 | E13: ='Re-Budget'!E13 -> 0 | G13: ='Cost Share'!P13 -> 0 | H13: =G13-I13 -> 0 | I13: =ROUND(IF(F13>0,F13*E13/D13,0),0) -> 0 | J13: =SUM(H13:I13) -> 0
A14: ='Re-Budget'!A14 -> 0 | B14: ='Re-Budget'!B14 -> Co-PI 1 | C14: ='Re-Budget'!C14 -> Summer | D14: ='Re-Budget'!D14 -> 0 | E14: ='Re-Budget'!E14 -> 0 | G14: ='Cost Share'!P14 -> 0 | H14: =G14-I14 -> 0 | I14: =ROUND(IF(F14>0,F14*E14/D14,0),0) -> 0 | J14: =SUM(H14:I14) -> 0
A15: ='Re-Budget'!A15 -> 0 | B15: ='Re-Budget'!B15 -> Co-PI 2 | C15: ='Re-Budget'!C15 -> Academic | D15: ='Re-Budget'!D15 -> 0 | E15: ='Re-Budget'!E15 -> 0 | G15: ='Cost Share'!P15 -> 0 | H15: =G15-I15 -> 0 | I15: =ROUND(IF(F15>0,F15*E15/D15,0),0) -> 0 | J15: =SUM(H15:I15) -> 0
A16: ='Re-Budget'!A16 -> 0 | B16: ='Re-Budget'!B16 -> Co-PI 2 | C16: ='Re-Budget'!C16 -> Summer | D16: ='Re-Budget'!D16 -> 0 | E16: ='Re-Budget'!E16 -> 0 | G16: ='Cost Share'!P16 -> 0 | H16: =G16-I16 -> 0 | I16: =ROUND(IF(F16>0,F16*E16/D16,0),0) -> 0 | J16: =SUM(H16:I16) -> 0
A17: ='Re-Budget'!A17 -> 0 | B17: ='Re-Budget'!B17 -> Co-PI 3 | C17: ='Re-Budget'!C17 -> Academic | D17: ='Re-Budget'!D17 -> 0 | E17: ='Re-Budget'!E17 -> 0 | G17: ='Cost Share'!P17 -> 0 | H17: =G17-I17 -> 0 | I17: =ROUND(IF(F17>0,F17*E17/D17,0),0) -> 0 | J17: =SUM(H17:I17) -> 0
A18: ='Re-Budget'!A18 -> 0 | B18: ='Re-Budget'!B18 -> Co-PI 3 | C18: ='Re-Budget'!C18 -> Summer | D18: ='Re-Budget'!D18 -> 0 | E18: ='Re-Budget'!E18 -> 0 | G18: ='Cost Share'!P18 -> 0 | H18: =G18-I18 -> 0 | I18: =ROUND(IF(F18>0,F18*E18/D18,0),0) -> 0 | J18: =SUM(H18:I18) -> 0
A19: ='Re-Budget'!A19 -> 0 | B19: ='Re-Budget'!B19 -> Co-PI 4 | C19: ='Re-Budget'!C19 -> Academic | D19: ='Re-Budget'!D19 -> 0 | E19: ='Re-Budget'!E19 -> 0 | G19: ='Cost Share'!P19 -> 0 | H19: =G19-I19 -> 0 | I19: =ROUND(IF(F19>0,F19*E19/D19,0),0) -> 0 | J19: =SUM(H19:I19) -> 0
A20: ='Re-Budget'!A20 -> 0 | B20: ='Re-Budget'!B20 -> Co-PI 4 | C20: ='Re-Budget'!C20 -> Summer | D20: ='Re-Budget'!D20 -> 0 | E20: ='Re-Budget'!E20 -> 0 | G20: ='Cost Share'!P20 -> 0 | H20: =G20-I20 -> 0 | I20: =ROUND(IF(F20>0,F20*E20/D20,0),0) -> 0 | J20: =SUM(H20:I20) -> 0
A21: ='Re-Budget'!A21 -> 0 | B21: ='Re-Budget'!B21 -> Post-doc | C21: ='Re-Budget'!C21 -> Academic | D21: ='Re-Budget'!D21 -> 0 | E21: ='Re-Budget'!E21 -> 0 | G21: ='Cost Share'!P21 -> 0 | H21: =G21-I21 -> 0 | I21: =ROUND(IF(F21>0,F21*E21/D21,0),0) -> 0 | J21: =SUM(H21:I21) -> 0
A22: ='Re-Budget'!A22 -> 0 | B22: ='Re-Budget'!B22 -> Grad Student | C22: ='Re-Budget'!C22 -> Student | D22: ='Re-Budget'!D22 -> 0 | E22: ='Re-Budget'!E22 -> 0 | G22: ='Cost Share'!P22 -> 0 | H22: =G22-I22 -> 0 | I22: =ROUND(IF(F22>0,F22*E22/D22,0),0) -> 0 | J22: =SUM(H22:I22) -> 0
... A25: ='Re-Budget'!A25 -> 0 | B25: ='Re-Budget'!B25 -> TBD | C25: ='Re-Budget'!C25 -> TBD | D25: ='Re-Budget'!D25 -> 0 | E25: ='Re-Budget'!E25 -> 0 | G25: ='Cost Share'!P25 -> 0 | H25: =G25-I25 -> 0 | I25: =ROUND(IF(F25>0,F25*E25/D25,0),0) -> 0 | J25: =SUM(H25:I25) -> 0
A26: TOTAL SALARIES & WAGES | G26: ='Cost Share'!P26 -> 0 | H26: =SUM(H11:H25) -> 0 | I26: =SUM(I11:I25) -> 0 | J26: =SUM(J11:J25) -> 0 | K26: =SUM(H26:I26) -> 0
A28: FRINGE BENEFITS | G28: Original | H28: Exp | I28: Re-Bud | J28: TL REV
A29: =A11 -> 0 | B29: =B11 -> PI | C29: =C11 -> Academic | G29: ='Cost Share'!P29 -> 0 | H29: =G29-I29 -> 0 | I29: =ROUND(IF($C$29="Academic",I11*$E$5,IF($C$29="Summer",I11*$E$6,IF($C$29="Staff",I11*$G$5,IF($C$29="Student",I11*$G$6,0)))),0) -> 0 | J29: =SUM(H29:I29) -> 0
A30: =A12 -> 0 | B30: =B12 -> PI | C30: =C12 -> Summer | G30: ='Cost Share'!P30 -> 0 | H30: =G30-I30 -> 0 | I30: =ROUND(IF($C$30="Academic",I12*$E$5,IF($C$30="Summer",I12*$E$6,IF($C$30="Staff",I12*$G$5,IF($C$30="Student",I12*$G$6,0)))),0) -> 0 | J30: =SUM(H30:I30) -> 0
A31: =A13 -> 0 | B31: =B13 -> Co-PI 1 | C31: =C13 -> Academic | G31: ='Cost Share'!P31 -> 0 | H31: =G31-I31 -> 0 | I31: =ROUND(IF($C$31="Academic",I13*$E$5,IF($C$31="Summer",I13*$E$6,IF($C$31="Staff",I13*$G$5,IF($C$31="Student",I13*$G$6,0)))),0) -> 0 | J31: =SUM(H31:I31) -> 0
A32: =A14 -> 0 | B32: =B14 -> Co-PI 1 | C32: =C14 -> Summer | G32: ='Cost Share'!P32 -> 0 | H32: =G32-I32 -> 0 | I32: =ROUND(IF($C$32="Academic",I14*$E$5,IF($C$32="Summer",I14*$E$6,IF($C$32="Staff",I14*$G$5,IF($C$32="Student",I14*$G$6,0)))),0) -> 0 | J32: =SUM(H32:I32) -> 0
A33: =A15 -> 0 | B33: =B15 -> Co-PI 2 | C33: =C15 -> Academic | G33: ='Cost Share'!P33 -> 0 | H33: =G33-I33 -> 0 | I33: =ROUND(IF($C$33="Academic",I15*$E$5,IF($C$33="Summer",I15*$E$6,IF($C$33="Staff",I15*$G$5,IF($C$33="Student",I15*$G$6,0)))),0) -> 0 | J33: =SUM(H33:I33) -> 0
A34: =A16 -> 0 | B34: =B16 -> Co-PI 2 | C34: =C16 -> Summer | G34: ='Cost Share'!P34 -> 0 | H34: =G34-I34 -> 0 | I34: =ROUND(IF($C$34="Academic",I16*$E$5,IF($C$34="Summer",I16*$E$6,IF($C$34="Staff",I16*$G$5,IF($C$34="Student",I16*$G$6,0)))),0) -> 0 | J34: =SUM(H34:I34) -> 0
A35: =A17 -> 0 | B35: =B17 -> Co-PI 3 | C35: =C17 -> Academic | G35: ='Cost Share'!P35 -> 0 | H35: =G35-I35 -> 0 | I35: =ROUND(IF($C$35="Academic",I17*$E$5,IF($C$35="Summer",I17*$E$6,IF($C$35="Staff",I17*$G$5,IF($C$35="Student",I17*$G$6,0)))),0) -> 0 | J35: =SUM(H35:I35) -> 0
A36: =A18 -> 0 | B36: =B18 -> Co-PI 3 | C36: =C18 -> Summer | G36: ='Cost Share'!P36 -> 0 | H36: =G36-I36 -> 0 | I36: =ROUND(IF($C$36="Academic",I18*$E$5,IF($C$36="Summer",I18*$E$6,IF($C$36="Staff",I18*$G$5,IF($C$36="Student",I18*$G$6,0)))),0) -> 0 | J36: =SUM(H36:I36) -> 0
A37: =A19 -> 0 | B37: =B19 -> Co-PI 4 | C37: =C19 -> Academic | G37: ='Cost Share'!P37 -> 0 | H37: =G37-I37 -> 0 | I37: =ROUND(IF($C$37="Academic",I19*$E$5,IF($C$37="Summer",I19*$E$6,IF($C$37="Staff",I19*$G$5,IF($C$37="Student",I19*$G$6,0)))),0) -> 0 | J37: =SUM(H37:I37) -> 0
A38: =A20 -> 0 | B38: =B20 -> Co-PI 4 | C38: =C20 -> Summer | G38: ='Cost Share'!P38 -> 0 | H38: =G38-I38 -> 0 | I38: =ROUND(IF($C$38="Academic",I20*$E$5,IF($C$38="Summer",I20*$E$6,IF($C$38="Staff",I20*$G$5,IF($C$38="Student",I20*$G$6,0)))),0) -> 0 | J38: =SUM(H38:I38) -> 0
A39: =A21 -> 0 | B39: =B21 -> Post-doc | C39: =C21 -> Academic | G39: ='Cost Share'!P39 -> 0 | H39: =G39-I39 -> 0 | I39: =ROUND(IF($C$39="Academic",I21*$E$5,IF($C$39="Summer",I21*$E$6,IF($C$39="Staff",I21*$G$5,IF($C$39="Student",I21*$G$6,0)))),0) -> 0 | J39: =SUM(H39:I39) -> 0
A40: =A22 -> 0 | B40: =B22 -> Grad Student | C40: =C22 -> Student | G40: ='Cost Share'!P40 -> 0 | H40: =G40-I40 -> 0 | I40: =ROUND(IF($C$40="Academic",I22*$E$5,IF($C$40="Summer",I22*$E$6,IF($C$40="Staff",I22*$G$5,IF($C$40="Student",I22*$G$6,0)))),0) -> 0 | J40: =SUM(H40:I40) -> 0
A41: =A23 -> 0 | B41: =B23 -> Grad Student | C41: =C23 -> Student | G41: ='Cost Share'!P41 -> 0 | H41: =G41-I41 -> 0 | I41: =ROUND(IF($C$41="Academic",I23*$E$5,IF($C$41="Summer",I23*$E$6,IF($C$41="Staff",I23*$G$5,IF($C$41="Student",I23*$G$6,0)))),0) -> 0 | J41: =SUM(H41:I41) -> 0
A42: =A24 -> 0 | B42: =B24 -> UG Student | C42: =C24 -> Student | G42: ='Cost Share'!P42 -> 0 | H42: =G42-I42 -> 0 | I42: =ROUND(IF($C$42="Academic",I24*$E$5,IF($C$42="Summer",I24*$E$6,IF($C$42="Staff",I24*$G$5,IF($C$42="Student",I24*$G$6,0)))),0) -> 0 | J42: =SUM(H42:I42) -> 0
A43: =A25 -> 0 | B43: =B25 -> TBD | C43: =C25 -> TBD | G43: ='Cost Share'!P43 -> 0 | H43: =G43-I43 -> 0 | I43: =ROUND(IF($C$43="Academic",I25*$E$5,IF($C$43="Summer",I25*$E$6,IF($C$43="Staff",I25*$G$5,IF($C$43="Student",I25*$G$6,0)))),0) -> 0 | J43: =SUM(H43:I43) -> 0
A44: TOTAL FRINGE BENEFITS | G44: ='Cost Share'!P44 -> 0 | H44: =SUM(H29:H43) -> 0 | I44: =SUM(I29:I43) -> 0 | J44: =SUM(J29:J43) -> 0 | K44: =SUM(H44:I44) -> 0
...
